BEGIN:VCALENDAR
VERSION:2.0
PRODID:-//PAX Christi International - ECPv6.15.20//NONSGML v1.0//EN
CALSCALE:GREGORIAN
METHOD:PUBLISH
X-ORIGINAL-URL:https://paxchristi.net
X-WR-CALDESC:Events for PAX Christi International
REFRESH-INTERVAL;VALUE=DURATION:PT1H
X-Robots-Tag:noindex
X-PUBLISHED-TTL:PT1H
BEGIN:VTIMEZONE
TZID:Europe/Brussels
BEGIN:DAYLIGHT
TZOFFSETFROM:+0100
TZOFFSETTO:+0200
TZNAME:CEST
DTSTART:20230326T010000
END:DAYLIGHT
BEGIN:STANDARD
TZOFFSETFROM:+0200
TZOFFSETTO:+0100
TZNAME:CET
DTSTART:20231029T010000
END:STANDARD
BEGIN:DAYLIGHT
TZOFFSETFROM:+0100
TZOFFSETTO:+0200
TZNAME:CEST
DTSTART:20240331T010000
END:DAYLIGHT
BEGIN:STANDARD
TZOFFSETFROM:+0200
TZOFFSETTO:+0100
TZNAME:CET
DTSTART:20241027T010000
END:STANDARD
BEGIN:DAYLIGHT
TZOFFSETFROM:+0100
TZOFFSETTO:+0200
TZNAME:CEST
DTSTART:20250330T010000
END:DAYLIGHT
BEGIN:STANDARD
TZOFFSETFROM:+0200
TZOFFSETTO:+0100
TZNAME:CET
DTSTART:20251026T010000
END:STANDARD
END:VTIMEZONE
BEGIN:VEVENT
DTSTART;TZID=Europe/Brussels:20241212T150000
DTEND;TZID=Europe/Brussels:20241212T160000
DTSTAMP:20260422T165442
CREATED:20241125T121656Z
LAST-MODIFIED:20241220T134726Z
UID:3122-1734015600-1734019200@paxchristi.net
SUMMARY:Caring for our Common Home: The Need for a Legally Binding Instrument for TNCs and Other Types of Business
DESCRIPTION:On December 12th\, 2024\, at 3.00 pm CET (Brussels Time)\, CIDSE\, Caritas Internationalis\, Pax Christi International\, and Trócaire are inviting you to a webinar: \nCaring for our Common Home:\nThe Need for a Legally Binding Instrument for TNCs and Other Types of Business\nThe webinar included an opening statement by Archbishop Ettore Balestrero\, Permanent Observer of the Holy See to the United Nations in Geneva\, alongside valuable insights from other experts and advocates working on corporate accountability. \nTogether we explored the urgent need for a legally binding instrument to ensure that Transnational Corporations (TNCs) and other businesses respect human rights and protect the environment. The event served as a precursor to the 10th session of the Open-ended Intergovernmental Working Group on TNCs and Human Rights which will take place at the UN in Geneva on December 16th – 20th 2024. \nWatch the recording of the webinar here. \nProgramme:\n\n“Opening statement”\, by Archbishop Ettore Balestrero\, Permanent Observer of the Holy See to the United Nations and Specialised Institutions in Geneva.\n“The right to say no in the struggle for corporate justice”\, by Martha Inés Romero\, Secretary General\, Pax Christi International\, and Diego Alejandro Garcia Pedraza\, Latin America and Caribbean Programme Officer\, Pax Christi International.\n“Struggles with mining enterprises”\, with speakers from:\n\nXinka Parliament\, Guatemala.\nDiocese of Marbel\, Caritas Philippines.\n\n\nPosition paper “CIDSE and its Members’ contribution for the 10th session”\, by Armin Paasch\, Expert on Responsible Business and Human Rights\, Misereor.\nQ&A.\nConclusion.
URL:https://paxchristi.net/event/caring-for-our-common-home/
LOCATION:Online: via Zoom
CATEGORIES:Dignity
ATTACH;FMTTYPE=image/png:https://paxchristi.net/wp-content/uploads/2024/11/Caring-for-our-Common-Home.png
END:VEVENT
END:VCALENDAR