BEGIN:VCALENDAR
VERSION:2.0
PRODID:-//PAX Christi International - ECPv6.15.20//NONSGML v1.0//EN
CALSCALE:GREGORIAN
METHOD:PUBLISH
X-WR-CALNAME:PAX Christi International
X-ORIGINAL-URL:https://paxchristi.net
X-WR-CALDESC:Events for PAX Christi International
REFRESH-INTERVAL;VALUE=DURATION:PT1H
X-Robots-Tag:noindex
X-PUBLISHED-TTL:PT1H
BEGIN:VTIMEZONE
TZID:Europe/Brussels
BEGIN:DAYLIGHT
TZOFFSETFROM:+0100
TZOFFSETTO:+0200
TZNAME:CEST
DTSTART:20230326T010000
END:DAYLIGHT
BEGIN:STANDARD
TZOFFSETFROM:+0200
TZOFFSETTO:+0100
TZNAME:CET
DTSTART:20231029T010000
END:STANDARD
BEGIN:DAYLIGHT
TZOFFSETFROM:+0100
TZOFFSETTO:+0200
TZNAME:CEST
DTSTART:20240331T010000
END:DAYLIGHT
BEGIN:STANDARD
TZOFFSETFROM:+0200
TZOFFSETTO:+0100
TZNAME:CET
DTSTART:20241027T010000
END:STANDARD
BEGIN:DAYLIGHT
TZOFFSETFROM:+0100
TZOFFSETTO:+0200
TZNAME:CEST
DTSTART:20250330T010000
END:DAYLIGHT
BEGIN:STANDARD
TZOFFSETFROM:+0200
TZOFFSETTO:+0100
TZNAME:CET
DTSTART:20251026T010000
END:STANDARD
END:VTIMEZONE
BEGIN:VEVENT
DTSTART;TZID=Europe/Brussels:20241119T180000
DTEND;TZID=Europe/Brussels:20241119T193000
DTSTAMP:20260422T201624
CREATED:20241118T153812Z
LAST-MODIFIED:20241119T102147Z
UID:3052-1732039200-1732044600@paxchristi.net
SUMMARY:Voices from the Amazon
DESCRIPTION:Pax Christi International and other catholic organisations invite you to the webinar:\n\nVoices from the Amazon \nTuesday\, November 19th\, 2024 at 12.00-1.30 p.m. (New York\, Bogota) | 2.00-3.30 p.m. (Buenos Aires) | 6.00-7.30 (Bruxelles)\n\nSpeakers\n\n\nSr. Laura Vicuna\, indigenous\, Franciscan nun and Vice President of CEAMA (Ecclesial Conference of the Amazon)\n\n\nMauricio Lopez\, Director of the Pan-Amazonian University Network (PUAM)\n\n\nProgramme\nEmpowering Indigenous Voices for the Amazon’s Future\nThe Amazon is facing existential threats from deforestation\, climate change\, and violence. Indigenous peoples\, who have protected these lands for generations\, are now under attack. Sr. Laura will help us appreciate why indigenous voices must be at the center of any conversation on environmental and human rights.\n\nTogether for Our Future: A Catholic Call to Solidarity\nThe Amazon has become a place of martyrdom\, where more than 100 land defenders have sacrificed their lives for the rainforest. This is a call to the global Church and all people of goodwill to answer the “cries of the earth and the cries of the poor.” We will discuss how to stand together against violence\, support legal protections\, and advocate for indigenous rights and environmental justice.\n\nWomen’s Leadership: New Pathways in Ministry\nFive years after the Amazon Synod\, it is time to recognize and expand women’s leadership within the Church. Sr. Laura will share the vital role women are playing in advocating for social justice\, indigenous rights\, and integral ecology\, and together with Discerning Deacons\, update us on the global Catholic Church’s Synod on Synodality’s October 2024 gathering in Rome.\n\nAmazonian Catholic University for Intercultural Education\nMauricio Lopez will present the vision for a new Pan-Amazonian Catholic University Network (PUAM) that will focus on intercultural education\, interdisciplinary research\, and dialogue. This initiative aims to address the urgent inequalities and challenges of the region while amplifying indigenous knowledge.\n  \nRegister here.
URL:https://paxchristi.net/event/voices-from-the-amazon/
LOCATION:Online: via Zoom
CATEGORIES:Community,Dignity
ATTACH;FMTTYPE=image/png:https://paxchristi.net/wp-content/uploads/2024/11/voices_from_the_amazon_banner.png
END:VEVENT
END:VCALENDAR