BEGIN:VCALENDAR
VERSION:2.0
PRODID:-//PAX Christi International - ECPv6.15.20//NONSGML v1.0//EN
CALSCALE:GREGORIAN
METHOD:PUBLISH
X-ORIGINAL-URL:https://paxchristi.net
X-WR-CALDESC:Events for PAX Christi International
REFRESH-INTERVAL;VALUE=DURATION:PT1H
X-Robots-Tag:noindex
X-PUBLISHED-TTL:PT1H
BEGIN:VTIMEZONE
TZID:Europe/Brussels
BEGIN:DAYLIGHT
TZOFFSETFROM:+0100
TZOFFSETTO:+0200
TZNAME:CEST
DTSTART:20240331T010000
END:DAYLIGHT
BEGIN:STANDARD
TZOFFSETFROM:+0200
TZOFFSETTO:+0100
TZNAME:CET
DTSTART:20241027T010000
END:STANDARD
BEGIN:DAYLIGHT
TZOFFSETFROM:+0100
TZOFFSETTO:+0200
TZNAME:CEST
DTSTART:20250330T010000
END:DAYLIGHT
BEGIN:STANDARD
TZOFFSETFROM:+0200
TZOFFSETTO:+0100
TZNAME:CET
DTSTART:20251026T010000
END:STANDARD
BEGIN:DAYLIGHT
TZOFFSETFROM:+0100
TZOFFSETTO:+0200
TZNAME:CEST
DTSTART:20260329T010000
END:DAYLIGHT
BEGIN:STANDARD
TZOFFSETFROM:+0200
TZOFFSETTO:+0100
TZNAME:CET
DTSTART:20261025T010000
END:STANDARD
END:VTIMEZONE
BEGIN:VEVENT
DTSTART;TZID=Europe/Brussels:20250127T123000
DTEND;TZID=Europe/Brussels:20250127T140000
DTSTAMP:20260422T163758
CREATED:20250123T163906Z
LAST-MODIFIED:20250214T135513Z
UID:3649-1737981000-1737986400@paxchristi.net
SUMMARY:The importance of an appropriate care for the dead from a human rights perspective - experiences from Slovenia
DESCRIPTION:In the framework of the 48th session of the Working Group on the Universal Periodic Review (UPR) on the occasion of the UPR for Slovenia\, Pax Christi International organised an information session (side event): \n“The importance of an appropriate care for the dead from a human rights perspective – experiences from Slovenia”\nOn Monday\, 27 January 2025\, 12:30 – 2.00 pm\nIn room XXII\, Palais des Nations\, Geneva \nThe event was organised with the collaboration of the Commission for Justice and Peace of the Slovenian Bishops’ Conference and the German Commission for Justice and Peace. \nMembers of the “Partnership in Truth for Peace and Reconciliation” of Slovenia\, who spoke at the event\, issued this statement. \nDuring the event\, speakers presented recommendations on how Slovenia can better fulfil its obligations under the International Convention for the Protection of All Persons from Enforced Disappearance (ICERD) and explain why appropriate care for the dead is essential for the protection of human rights. \nThe recording is available on our YouTube channel here.\nDue to technical issues\, Assoc. Prof. Dr. Katarina Lia Kompan Erzar could not deliver her presentation during the event. Her part is available here. \nPresentations:\n\nDr. Bernd Hirschberger\, German Commission for Justice and Peace – The importance of appropriate care for the dead from a human rights perspective (Presentation available here)\nAsist. Tilen Vesenjak\, Justice and Peace Slovenia – The mass graves in Slovenia – dimensions of the deficits with regard to the appropriate treatment of the dead\nProf. Dr. Janez Juhant\, Association United on Lipa Reconciliation – The necessity of burial of victims for reconciliation in Slovenia\nPeter Sušnik\, Nova Slovenska zaveza – Current challenges\, possible solutions and recommendations: Experiences from Macesnova Gorica\nAssoc. Prof. Dr. Katarina Lia Kompan Erzar\, University of Ljubljana – Unresolved losses\, complicated grief and the meaning of respectful burial in building a healthy society (Presentation available here)\n\nThe event was covered by some Slovenian media: \n\nIn Geneva\, the views of Slovenian relatives of the victims killed in the revolution and the war were presented | Nova24TV\nStatement on the treatment of the victims of the communist revolution at the UN | Democracija\n\nFor further information on the topic\, the publication How society cares for the dead – a matter of human dignity! of the  German Commission for Justice and Peace is available in English\, Spanish and German here.
URL:https://paxchristi.net/event/the-importance-of-an-appropriate-care-for-the-dead-from-a-human-rights-perspective-experiences-from-slovenia/
CATEGORIES:Dignity
ATTACH;FMTTYPE=image/png:https://paxchristi.net/wp-content/uploads/2025/01/UPR-Side-event-Slovenia.png
END:VEVENT
END:VCALENDAR